BEGIN:VCALENDAR
VERSION:2.0
PRODID:-//Hill Country Fellowship - ECPv6.15.20//NONSGML v1.0//EN
CALSCALE:GREGORIAN
METHOD:PUBLISH
X-ORIGINAL-URL:https://hillcountryfellowship.church
X-WR-CALDESC:Events for Hill Country Fellowship
REFRESH-INTERVAL;VALUE=DURATION:PT1H
X-Robots-Tag:noindex
X-PUBLISHED-TTL:PT1H
BEGIN:VTIMEZONE
TZID:UTC
BEGIN:STANDARD
TZOFFSETFROM:+0000
TZOFFSETTO:+0000
TZNAME:UTC
DTSTART:20240101T000000
END:STANDARD
END:VTIMEZONE
BEGIN:VEVENT
DTSTART;TZID=UTC:20250305T183000
DTEND;TZID=UTC:20250305T203000
DTSTAMP:20260424T163250
CREATED:20250211T203717Z
LAST-MODIFIED:20250226T044535Z
UID:987609811-1741199400-1741206600@hillcountryfellowship.church
SUMMARY:Bible Study (3-5-2025)
DESCRIPTION:Year 2025 Mid-week bible study; most Wednesday nights 7:00pm at 164 Rocking A Lane\, Fredericksburg\, TX.
URL:https://hillcountryfellowship.church/event/bible-study-3-5-2025/
LOCATION:Hill Country Fellowship\, 164 Rocking A Ln\, Fredericksburg\, TX\, 78624\, United States
CATEGORIES:Bible Study
END:VEVENT
BEGIN:VEVENT
DTSTART;TZID=UTC:20250305T083000
DTEND;TZID=UTC:20250305T220000
DTSTAMP:20260424T163250
CREATED:20250211T213048Z
LAST-MODIFIED:20250226T060051Z
UID:987609817-1741163400-1741212000@hillcountryfellowship.church
SUMMARY:Prayer Time for Women (3-5-2025)
DESCRIPTION:Wednesday morning prayer time for women at 8:30am at 164 Rocking A Lane\, Fredericksburg\, TX.
URL:https://hillcountryfellowship.church/event/prayer-time-for-women-3-5-2025/
LOCATION:Hill Country Fellowship\, 164 Rocking A Ln\, Fredericksburg\, TX\, 78624\, United States
CATEGORIES:Prayer Time
END:VEVENT
BEGIN:VEVENT
DTSTART;TZID=UTC:20250219T190000
DTEND;TZID=UTC:20250219T203000
DTSTAMP:20260424T163250
CREATED:20250211T212925Z
LAST-MODIFIED:20250226T055730Z
UID:987609815-1739991600-1739997000@hillcountryfellowship.church
SUMMARY:Discipleship Groups (3-4-2025)
DESCRIPTION:Discipleship Groups on Tuesday night at 6:30 at 164 Rocking A Lane\, Fredericksburg\, TX.
URL:https://hillcountryfellowship.church/event/discipleship-groups-3-4-2025/
LOCATION:Hill Country Fellowship\, 164 Rocking A Ln\, Fredericksburg\, TX\, 78624\, United States
CATEGORIES:Discipleship Groups
END:VEVENT
END:VCALENDAR